BEGIN:VCALENDAR
VERSION:2.0
PRODID:spatie/icalendar-generator
DESCRIPTION:Events from St. Vincent de Paul Catholic Primary School
X-WR-CALDESC:Events from St. Vincent de Paul Catholic Primary School
REFRESH-INTERVAL;VALUE=DURATION:PT1440M
X-PUBLISHED-TTL:PT1440M
BEGIN:VTIMEZONE
TZID:Europe/London
BEGIN:STANDARD
DTSTART:20231029T020000Z
TZOFFSETFROM:+0100
TZOFFSETTO:+0000
END:STANDARD
BEGIN:DAYLIGHT
DTSTART:20240331T010000Z
TZOFFSETFROM:+0000
TZOFFSETTO:+0100
END:DAYLIGHT
BEGIN:STANDARD
DTSTART:20241027T020000Z
TZOFFSETFROM:+0100
TZOFFSETTO:+0000
END:STANDARD
END:VTIMEZONE
BEGIN:VTIMEZONE
TZID:UTC
BEGIN:STANDARD
DTSTART:20250725T013349Z
TZOFFSETFROM:+0000
TZOFFSETTO:+0000
END:STANDARD
END:VTIMEZONE
BEGIN:VEVENT
UID:1240-433
DTSTAMP:20260421T013349Z
SUMMARY:EYFS/KS1 Golden Assembly
LOCATION:
ORGANIZER;CN=Stephen Rogers:MAILTO:steve.rogers@mglworld.com
DTSTART;TZID=Europe/London:20240716T140000
DTEND;TZID=Europe/London:20240716T150000
X-ALT-DESC;FMTTYPE=TEXT/HTML:Parents of Nursery\, Reception\, Y1 &amp;amp\; Y2 
 invited
CATEGORIES:Special Events
URL;VALUE=URI:https://stvincentdepaulprimary.co.uk/calendar/?mc_id=1240&amp;#03
 8;vcal=1240
METHOD:PUBLISH
END:VEVENT
END:VCALENDAR